BEGIN:VCALENDAR
VERSION:2.0
PRODID:icalendar-ruby
CALSCALE:GREGORIAN
BEGIN:VEVENT
DTSTAMP:20260422T170512Z
UID:d9aa262e-d9b3-46cb-8e48-af02258740ce
DTSTART;VALUE=DATE:20211124
DESCRIPTION:Property ID# 521464\, Locatoin: Tait Technology Centre\, 245 Wo
 oldridge Road\, Russley\, Christchurch\, Time: 12:00PM
SUMMARY:Auction for 
END:VEVENT
END:VCALENDAR
