BEGIN:VCALENDAR
VERSION:2.0
PRODID:icalendar-ruby
CALSCALE:GREGORIAN
BEGIN:VEVENT
DTSTAMP:20260425T213532Z
UID:3c75a13c-11a7-4501-8696-88ed313f9bb2
DTSTART;VALUE=DATE:20220331
DESCRIPTION:Property ID# 531395\, Time: 4:00PM
SUMMARY:Auction for 
END:VEVENT
END:VCALENDAR
