BEGIN:VCALENDAR
VERSION:2.0
PRODID:icalendar-ruby
CALSCALE:GREGORIAN
BEGIN:VEVENT
DTSTAMP:20260425T172943Z
UID:d2e53a04-52cd-448f-9896-dde24766c2e9
DTSTART;VALUE=DATE:20220406
DESCRIPTION:Property ID# 531857\, Time: 4:00PM
SUMMARY:Auction for 
END:VEVENT
END:VCALENDAR
