BEGIN:VCALENDAR
VERSION:2.0
PRODID:icalendar-ruby
CALSCALE:GREGORIAN
BEGIN:VEVENT
DTSTAMP:20260425T173722Z
UID:269355a6-5e28-44c9-a122-4bcaef16bcc5
DTSTART;VALUE=DATE:20230705
DESCRIPTION:Property ID# 558551\, Time: 4:00PM
SUMMARY:Auction for 
END:VEVENT
END:VCALENDAR
