BEGIN:VCALENDAR
VERSION:2.0
PRODID:icalendar-ruby
CALSCALE:GREGORIAN
BEGIN:VEVENT
DTSTAMP:20260425T173722Z
UID:15e12c73-6826-41ee-8b5e-b2115c4bfca2
DTSTART;VALUE=DATE:20240208
DESCRIPTION:Property ID# 568832\, Time: 4:00PM
SUMMARY:Auction for 
END:VEVENT
END:VCALENDAR
