BEGIN:VCALENDAR
VERSION:2.0
PRODID:icalendar-ruby
CALSCALE:GREGORIAN
BEGIN:VEVENT
DTSTAMP:20260425T173129Z
UID:e0f30b1d-2b83-4ac2-a948-9d0c9bd2945c
DTSTART;VALUE=DATE:20240207
DESCRIPTION:Property ID# 568835\, Time: 4:00PM
SUMMARY:Auction for 
END:VEVENT
END:VCALENDAR
