BEGIN:VCALENDAR
VERSION:2.0
PRODID:icalendar-ruby
CALSCALE:GREGORIAN
BEGIN:VEVENT
DTSTAMP:20260425T173433Z
UID:fa30ede1-5043-453b-b2ec-8ed8d526027a
DTSTART;VALUE=DATE:20240214
DESCRIPTION:Property ID# 569418\, Time: 1:00PM
SUMMARY:Auction for 
END:VEVENT
END:VCALENDAR
