BEGIN:VCALENDAR
VERSION:2.0
PRODID:icalendar-ruby
CALSCALE:GREGORIAN
BEGIN:VEVENT
DTSTAMP:20260425T173108Z
UID:78934399-f88d-486b-86a0-7a63f64c436e
DTSTART;VALUE=DATE:20241106
DESCRIPTION:Property ID# 582896\, Time: 4:00PM
SUMMARY:Auction for 
END:VEVENT
END:VCALENDAR
