BEGIN:VCALENDAR
VERSION:2.0
PRODID:icalendar-ruby
CALSCALE:GREGORIAN
BEGIN:VEVENT
DTSTAMP:20260425T173644Z
UID:796e43bb-b594-4ee5-a798-ffbf28e2541a
DTSTART;VALUE=DATE:20250416
DESCRIPTION:Property ID# 590520\, Time: 4:00PM
SUMMARY:Auction for 
END:VEVENT
END:VCALENDAR
