BEGIN:VCALENDAR
VERSION:2.0
PRODID:icalendar-ruby
CALSCALE:GREGORIAN
BEGIN:VEVENT
DTSTAMP:20260420T130718Z
UID:03895cc0-aeeb-4653-8712-63679e05933f
DTSTART;VALUE=DATE:20250703
DESCRIPTION:Property ID# 593912\, Locatoin: Harcourts Grenadier 98 Moorhous
 e Avenue\, Time: 11:00AM
SUMMARY:Auction for 
END:VEVENT
END:VCALENDAR
