BEGIN:VCALENDAR
VERSION:2.0
PRODID:icalendar-ruby
CALSCALE:GREGORIAN
BEGIN:VEVENT
DTSTAMP:20260420T055257Z
UID:792fc8e5-ba19-4c44-a098-dc4904b4f9e0
DTSTART;VALUE=DATE:20250806
DESCRIPTION:Property ID# 594948\, Time: 1:00PM
SUMMARY:Auction for 
END:VEVENT
END:VCALENDAR
