BEGIN:VCALENDAR
VERSION:2.0
PRODID:icalendar-ruby
CALSCALE:GREGORIAN
BEGIN:VEVENT
DTSTAMP:20260420T130114Z
UID:43282bf0-3417-49c2-a51a-f833458df622
DTSTART;VALUE=DATE:20250925
DESCRIPTION:Property ID# 596941\, Locatoin: Harcourts Grenadier 98 Moorhous
 e Avenue\, Time: 11:00AM
SUMMARY:Auction for 
END:VEVENT
END:VCALENDAR
