BEGIN:VCALENDAR
VERSION:2.0
PRODID:icalendar-ruby
CALSCALE:GREGORIAN
BEGIN:VEVENT
DTSTAMP:20260420T124615Z
UID:3afa06b6-f157-48ca-990b-eedd019b1dcb
DTSTART;VALUE=DATE:20251002
DESCRIPTION:Property ID# 597207\, Locatoin: Harcourts Grenadier 98 Moorhous
 e Avenue\, Time: 11:00AM
SUMMARY:Auction for 
END:VEVENT
END:VCALENDAR
