BEGIN:VCALENDAR
VERSION:2.0
PRODID:icalendar-ruby
CALSCALE:GREGORIAN
BEGIN:VEVENT
DTSTAMP:20260424T103026Z
UID:17c4e75a-3c55-4fd3-8a32-8a2271db0060
DTSTART;VALUE=DATE:20251001
DESCRIPTION:Property ID# 597211\, Time: 4:00PM
SUMMARY:Auction for 
END:VEVENT
END:VCALENDAR
