BEGIN:VCALENDAR
VERSION:2.0
PRODID:icalendar-ruby
CALSCALE:GREGORIAN
BEGIN:VEVENT
DTSTAMP:20260420T124610Z
UID:f174cbd2-5e21-4ded-b662-0dab26c6caf2
DTSTART;VALUE=DATE:20251009
DESCRIPTION:Property ID# 597342\, Locatoin: Harcourts Grenadier 98 Moorhous
 e Avenue\, Time: 11:00AM
SUMMARY:Auction for 
END:VEVENT
END:VCALENDAR
