BEGIN:VCALENDAR
VERSION:2.0
PRODID:icalendar-ruby
CALSCALE:GREGORIAN
BEGIN:VEVENT
DTSTAMP:20260420T124809Z
UID:179d8640-d593-42a6-8ab5-3a5d5558d7bd
DTSTART;VALUE=DATE:20251023
DESCRIPTION:Property ID# 597511\, Locatoin: Harcourts Grenadier 98 Moorhous
 e Avenue\, Time: 11:00AM
SUMMARY:Auction for 
END:VEVENT
END:VCALENDAR
