BEGIN:VCALENDAR
VERSION:2.0
PRODID:icalendar-ruby
CALSCALE:GREGORIAN
BEGIN:VEVENT
DTSTAMP:20260425T172824Z
UID:5680d5d4-0ef0-426d-8601-745c725e13fa
DTSTART;VALUE=DATE:20251105
DESCRIPTION:Property ID# 599127\, Time: 4:00PM
SUMMARY:Auction for 
END:VEVENT
END:VCALENDAR
