BEGIN:VCALENDAR
VERSION:2.0
PRODID:icalendar-ruby
CALSCALE:GREGORIAN
BEGIN:VEVENT
DTSTAMP:20260420T124507Z
UID:703ce01f-b283-41ff-a2ec-d5ed90dc0d0a
DTSTART;VALUE=DATE:20251204
DESCRIPTION:Property ID# 600306\, Locatoin: 98 Moorhouse Avenue\, Time: 11:
 00AM
SUMMARY:Auction for 
END:VEVENT
END:VCALENDAR
