BEGIN:VCALENDAR
VERSION:2.0
PRODID:icalendar-ruby
CALSCALE:GREGORIAN
BEGIN:VEVENT
DTSTAMP:20260425T172808Z
UID:ac2fbaae-e0c7-4acb-840e-e253d4352d56
DTSTART;VALUE=DATE:20260205
DESCRIPTION:Property ID# 601994\, Time: 4:00PM
SUMMARY:Auction for 46 Mcquillan Avenue
END:VEVENT
END:VCALENDAR
