BEGIN:VCALENDAR
VERSION:2.0
PRODID:icalendar-ruby
CALSCALE:GREGORIAN
BEGIN:VEVENT
DTSTAMP:20260425T173143Z
UID:aec13832-ba41-4974-800a-038959a63fb0
DTSTART;VALUE=DATE:20260305
DESCRIPTION:Property ID# 603304\, Time: 4:00PM
SUMMARY:Auction for 314 Cones Road
END:VEVENT
END:VCALENDAR
