BEGIN:VCALENDAR
VERSION:2.0
PRODID:icalendar-ruby
CALSCALE:GREGORIAN
BEGIN:VEVENT
DTSTAMP:20260420T132905Z
UID:e2b6df8a-ad71-4699-a4c6-2609b3eff452
DTSTART;VALUE=DATE:20260312
DESCRIPTION:Property ID# 603848\, Locatoin: Harcourts Grenadier 98 Moorhous
 e Avenue\, Time: 11:00AM
SUMMARY:Auction for 
END:VEVENT
END:VCALENDAR
