BEGIN:VCALENDAR
VERSION:2.0
PRODID:icalendar-ruby
CALSCALE:GREGORIAN
BEGIN:VEVENT
DTSTAMP:20260420T092201Z
UID:778e4838-055a-4374-b06b-79fbd862730e
DTSTART;VALUE=DATE:20260422
DESCRIPTION:Property ID# 605916\, Time: 1:00PM
SUMMARY:Auction for 21 Defoe Place
END:VEVENT
END:VCALENDAR
