BEGIN:VCALENDAR
VERSION:2.0
PRODID:icalendar-ruby
CALSCALE:GREGORIAN
BEGIN:VEVENT
DTSTAMP:20260420T054920Z
UID:49f13851-e664-479e-b4ab-81aad20ee574
DTSTART;TZID=Pacific/Auckland:20260419T130000
DTEND;TZID=Pacific/Auckland:20260419T133000
DESCRIPTION:Property ID# 604560
SUMMARY:Openhome for 74 Matipo Street
END:VEVENT
END:VCALENDAR
